BEGIN:VCALENDAR
VERSION:2.0
PRODID:-//lickingswcd.com//NONSGML kigkonsult.se iCalcreator 2.30.10//
CALSCALE:GREGORIAN
METHOD:PUBLISH
UID:c5005ab3-79f1-42a9-bd39-1d38c7580012
X-WR-CALDESC:
X-WR-RELCALID:35be4c4de8523da1b7b72fe2d9373c61
X-WR-TIMEZONE:America/New_York
BEGIN:VTIMEZONE
TZID:America/New_York
BEGIN:STANDARD
TZNAME:EST
DTSTART:20251102T020000
TZOFFSETFROM:-0400
TZOFFSETTO:-0500
RDATE:20261101T020000
END:STANDARD
BEGIN:DAYLIGHT
TZNAME:EDT
DTSTART:20260308T020000
TZOFFSETFROM:-0500
TZOFFSETTO:-0400
RDATE:20270314T020000
END:DAYLIGHT
END:VTIMEZONE
BEGIN:VEVENT
UID:c0f69f04-4a90-4ad1-a662-f22fca7d4a3a
DTSTAMP:20260422T023308Z
DESCRIPTION:
DTSTART;TZID=America/New_York:20260501T060000
DTEND;TZID=America/New_York:20260501T060001
LOCATION:
SUMMARY:American Wetlands Month
END:VEVENT
END:VCALENDAR
