BEGIN:VCALENDAR
VERSION:2.0
PRODID:-//lickingswcd.com//NONSGML kigkonsult.se iCalcreator 2.30.10//
CALSCALE:GREGORIAN
METHOD:PUBLISH
UID:0c326afb-3aa7-4f2a-a2e6-a5c8087d7931
X-WR-CALDESC:
X-WR-RELCALID:704e9e9db8ae013b382217a884ada3e1
X-WR-TIMEZONE:America/New_York
BEGIN:VTIMEZONE
TZID:America/New_York
BEGIN:STANDARD
TZNAME:EST
DTSTART:20251102T020000
TZOFFSETFROM:-0400
TZOFFSETTO:-0500
RDATE:20261101T020000
RDATE:20271107T020000
END:STANDARD
BEGIN:DAYLIGHT
TZNAME:EDT
DTSTART:20260308T020000
TZOFFSETFROM:-0500
TZOFFSETTO:-0400
RDATE:20270314T020000
END:DAYLIGHT
END:VTIMEZONE
BEGIN:VEVENT
UID:a8c682d6-ec9e-4493-a863-d8170cd8e97f
DTSTAMP:20260423T092006Z
DESCRIPTION:
DTSTART;TZID=America/New_York:20260525T060000
DTEND;TZID=America/New_York:20260525T060001
LOCATION:771 E Main St\, Newark\, OH 43055 US
SUMMARY:Memorial Day - Office Closed
END:VEVENT
END:VCALENDAR
