BEGIN:VCALENDAR
VERSION:2.0
PRODID:-//lickingswcd.com//NONSGML kigkonsult.se iCalcreator 2.30.10//
CALSCALE:GREGORIAN
METHOD:PUBLISH
UID:0aa7e11f-2ae9-499d-9dcf-031c2b2beb1c
X-WR-CALDESC:
X-WR-RELCALID:9fab8dfa75c1896f48654295e9859cd8
X-WR-TIMEZONE:America/New_York
BEGIN:VTIMEZONE
TZID:America/New_York
BEGIN:STANDARD
TZNAME:EST
DTSTART:20271107T020000
TZOFFSETFROM:-0400
TZOFFSETTO:-0500
RDATE:20281105T020000
END:STANDARD
BEGIN:DAYLIGHT
TZNAME:EDT
DTSTART:20270314T020000
TZOFFSETFROM:-0500
TZOFFSETTO:-0400
RDATE:20280312T020000
RDATE:20290311T020000
END:DAYLIGHT
END:VTIMEZONE
BEGIN:VEVENT
UID:f9f46f1e-b740-4689-b631-432e37d3ed08
DTSTAMP:20260424T191451Z
DESCRIPTION:
DTSTART;TZID=America/New_York:20271128T000000
DTEND;TZID=America/New_York:20271128T235900
LOCATION:
SUMMARY:Thanksgiving Day - office closed
END:VEVENT
END:VCALENDAR
