BEGIN:VCALENDAR
VERSION:2.0
PRODID:-//lickingswcd.com//NONSGML kigkonsult.se iCalcreator 2.30.10//
CALSCALE:GREGORIAN
METHOD:PUBLISH
UID:3f773203-426c-40ee-8d87-fe60deb35961
X-WR-CALDESC:
X-WR-RELCALID:7694dfc4089921b230ad920a6b0d8628
X-WR-TIMEZONE:America/New_York
BEGIN:VTIMEZONE
TZID:America/New_York
BEGIN:STANDARD
TZNAME:EST
DTSTART:20271107T020000
TZOFFSETFROM:-0400
TZOFFSETTO:-0500
RDATE:20281105T020000
END:STANDARD
BEGIN:DAYLIGHT
TZNAME:EDT
DTSTART:20270314T020000
TZOFFSETFROM:-0500
TZOFFSETTO:-0400
RDATE:20280312T020000
RDATE:20290311T020000
END:DAYLIGHT
END:VTIMEZONE
BEGIN:VEVENT
UID:199e6131-5900-4a5d-8d0a-211257588620
DTSTAMP:20260425T012153Z
DESCRIPTION:
DTSTART;TZID=America/New_York:20280208T160000
DTEND;TZID=America/New_York:20280208T180000
LOCATION:771 East Main Street\, Suite 100\, Newark\, AL 43055 US
SUMMARY:LCSWCD Monthly Board Meeting
END:VEVENT
END:VCALENDAR
