BEGIN:VCALENDAR
VERSION:2.0
PRODID:-//lickingswcd.com//NONSGML kigkonsult.se iCalcreator 2.30.10//
CALSCALE:GREGORIAN
METHOD:PUBLISH
UID:e355c9dc-e3cf-4918-9984-c452e38bd6ae
X-WR-CALDESC:The Licking County Soil and Water Conservation District will h
 old the monthly District Board Meeting.  \n\nThe public is welcome to atte
 nd monthly Board meetings and serve on committees.  Contact Soil & Water a
 t 740-670-5330 for additional information.  \n
X-WR-RELCALID:381ffddd0ad5df74b348c20f519869e5
X-WR-TIMEZONE:America/New_York
BEGIN:VTIMEZONE
TZID:America/New_York
BEGIN:STANDARD
TZNAME:EST
DTSTART:20181104T020000
TZOFFSETFROM:-0400
TZOFFSETTO:-0500
RDATE:20191103T020000
RDATE:20201101T020000
END:STANDARD
BEGIN:DAYLIGHT
TZNAME:EDT
DTSTART:20190310T020000
TZOFFSETFROM:-0500
TZOFFSETTO:-0400
RDATE:20200308T020000
END:DAYLIGHT
END:VTIMEZONE
BEGIN:VEVENT
UID:4ee4eb1a-5462-4c94-8372-79c5b4c0c973
DTSTAMP:20260425T151342Z
DESCRIPTION:The Licking County Soil and Water Conservation District will ho
 ld the monthly District Board Meeting.  \n\nThe public is welcome to atten
 d monthly Board meetings and serve on committees.  Contact Soil & Water at
  740-670-5330 for additional information.  \n
DTSTART;TZID=America/New_York:20190814T163000
DTEND;TZID=America/New_York:20190814T180000
LOCATION:Ag Services Center
SUMMARY:Soil & Water Monthly Board Meeting
END:VEVENT
END:VCALENDAR
