BEGIN:VCALENDAR
VERSION:2.0
PRODID:-//lickingswcd.com//NONSGML kigkonsult.se iCalcreator 2.30.10//
CALSCALE:GREGORIAN
METHOD:PUBLISH
UID:67208435-6a42-4294-85e8-aedc450c8df8
X-WR-CALDESC:Tree  Sale order forms will be available at the breakfast.  \n
 Join the Granville Kiwanis for All-you-can-eat Pancakes with famous Homema
 de Maple Syrup! Purchase Syrup to take home!\n$6 adults\, $4 children 5-14
 \nProceeds benefit Camp Ohio Renovations
X-WR-RELCALID:299b9df0f148197585f7e2fc6a763bc5
X-WR-TIMEZONE:America/New_York
BEGIN:VTIMEZONE
TZID:America/New_York
BEGIN:STANDARD
TZNAME:EST
DTSTART:20191103T020000
TZOFFSETFROM:-0400
TZOFFSETTO:-0500
RDATE:20201101T020000
END:STANDARD
BEGIN:DAYLIGHT
TZNAME:EDT
DTSTART:20190310T020000
TZOFFSETFROM:-0500
TZOFFSETTO:-0400
RDATE:20200308T020000
RDATE:20210314T020000
END:DAYLIGHT
END:VTIMEZONE
BEGIN:VEVENT
UID:fdb8ffe6-e069-44d2-927b-39adc19b1764
DTSTAMP:20260425T030914Z
DESCRIPTION:Tree  Sale order forms will be available at the breakfast.  \nJ
 oin the Granville Kiwanis for All-you-can-eat Pancakes with famous Homemad
 e Maple Syrup! Purchase Syrup to take home!\n$6 adults\, $4 children 5-14
 \nProceeds benefit Camp Ohio Renovations
DTSTART;TZID=America/New_York:20200215T070000
DTEND;TZID=America/New_York:20200215T140000
LOCATION:St. Edwards Catholic Church\, 785 Newark Granville Road
SUMMARY:Granville Kiwanis Pancake Breakfast
END:VEVENT
END:VCALENDAR
