BEGIN:VCALENDAR
VERSION:2.0
PRODID:-//lickingswcd.com//NONSGML kigkonsult.se iCalcreator 2.30.10//
CALSCALE:GREGORIAN
METHOD:PUBLISH
UID:f330d7b2-530a-4c4d-ac8f-19f77b063f2e
X-WR-CALDESC:
X-WR-RELCALID:4f518ad8d7f93de465994101582a8dd9
X-WR-TIMEZONE:America/New_York
BEGIN:VTIMEZONE
TZID:America/New_York
BEGIN:STANDARD
TZNAME:EST
DTSTART:20191103T020000
TZOFFSETFROM:-0400
TZOFFSETTO:-0500
RDATE:20201101T020000
RDATE:20211107T020000
END:STANDARD
BEGIN:DAYLIGHT
TZNAME:EDT
DTSTART:20200308T020000
TZOFFSETFROM:-0500
TZOFFSETTO:-0400
RDATE:20210314T020000
RDATE:20220313T020000
END:DAYLIGHT
END:VTIMEZONE
BEGIN:VEVENT
UID:53d32b30-e549-4ba9-811e-5acfb5307b05
DTSTAMP:20260424T134516Z
DESCRIPTION:
DTSTART;TZID=America/New_York:20200914T180000
DTEND;TZID=America/New_York:20200914T190000
LOCATION:Village of Hebron Municipal Complex\, 934 West Main Street\, Hebro
 n\, OH
SUMMARY:South Licking Conservancy District
END:VEVENT
END:VCALENDAR
