BEGIN:VCALENDAR
VERSION:2.0
PRODID:-//lickingswcd.com//NONSGML kigkonsult.se iCalcreator 2.30.10//
CALSCALE:GREGORIAN
METHOD:PUBLISH
UID:3ffdce5b-39b0-4242-b0cb-b04525d36cf4
X-WR-CALDESC:
X-WR-RELCALID:bc16f9b67f5a4139966a021dff221a36
X-WR-TIMEZONE:America/New_York
BEGIN:VTIMEZONE
TZID:America/New_York
BEGIN:STANDARD
TZNAME:EST
DTSTART:20191103T020000
TZOFFSETFROM:-0400
TZOFFSETTO:-0500
RDATE:20201101T020000
RDATE:20211107T020000
END:STANDARD
BEGIN:DAYLIGHT
TZNAME:EDT
DTSTART:20200308T020000
TZOFFSETFROM:-0500
TZOFFSETTO:-0400
RDATE:20210314T020000
RDATE:20220313T020000
END:DAYLIGHT
END:VTIMEZONE
BEGIN:VEVENT
UID:cb0322e5-56af-4839-99bf-1978ef372d06
DTSTAMP:20260424T122151Z
DESCRIPTION:
DTSTART;TZID=America/New_York:20201005T120000
DTEND;TZID=America/New_York:20201005T130000
LOCATION:Soil & Water office\, 771 East Main Street\, Suite 100\, Newark\, 
 OH  43055
SUMMARY:Board Election- Absentee ballots available
END:VEVENT
END:VCALENDAR
