BEGIN:VCALENDAR
VERSION:2.0
PRODID:-//lickingswcd.com//NONSGML kigkonsult.se iCalcreator 2.30.10//
CALSCALE:GREGORIAN
METHOD:PUBLISH
UID:3e607b67-1ebc-4555-8ae3-319045dc69bc
X-WR-CALDESC:2020 Board of Supervisor Election\nLicking County Soil & Water
  Conservation District has a five-member Board of Supervisors elected by l
 andowners and residents of Licking County.   As unpaid Public Officials\, 
 the Board members are responsible for conducting business within the scope
  of the laws and administrative rules that govern LCSWCD.  Board members a
 lso help guide Soil & Water’s mission with professionalism\, efficiency\, 
 and effectiveness. \n\nEach candidate provided their thoughts on why Soil 
 & Water’s mission was meaningful and explained what they saw as the three 
 biggest natural resource challenges facing Licking County during the next 
 five years.\n\nKim Byce lives in Granville Township and is the Homestead C
 oordinator at Denison University.  As a mom of three\, she knows she is bo
 rrowing the earth from her children and theirs.  Licking Soil & Water empo
 wers her and other sustainability-minded residents of the county with know
 ledge and resources to ensure a viable\, abundant future for all. \n\nThre
 e challenges: \n\n1.     Making Licking Soil & Water’s resources and oppor
 tunities more accessible and engaging to a larger population of county res
 idents\, homeowners\, and consumers. \n\n2.     Finding financial incentiv
 es or other assistance to help landowners make environmentally conscious (
 but sometimes expensive) choices.\n\n3.     Strengthen and publicize conne
 ctions among like-minded entities and organizations to create a county-wid
 e culture of conservation. \n\n \n\nBill Goodman is completing his first t
 erm on the Licking County Board of Supervisors and currently serves as a D
 irector for the Ohio Federation of Soil & Water Conservation Districts.\n
 \nSoil & Water offers assistance in many areas – land preservation\, mini-
 grants\, stormwater management\, etc. – to promote conservation in this di
 verse county. \n\nThree challenges: \n\n1.     Logjams- Almost every creek
  or stream has developed logjams in the past few years.  Working on removi
 ng them will be challenging. \n2.     Cover Crops- Continue to encourage t
 he cover crop program by offering as much cost-share as possible.\n3.     
 Continue to work with developers in urban settings by stressing the needs 
 for conservation in all areas of construction.\n\nRhonda Reda lives in Pat
 askala and has been recognized with numerous awards for STEM-related educa
 tion programs related to natural resources.  \n\nI have been involved in n
 atural resources for almost 35 years. Licking County Soil & Water Conserva
 tion District is very meaningful to me because I have seen first-hand how 
 working with local leadership and creating educational programs can be ver
 y useful.\n\n1. Education on water quality and healthy soils for agricultu
 re production. Encourage the development of additional public outreach pro
 grams to educate the general public. Review and help execute established S
 trategic Plans.\n\n2. Establish more partnerships with various community g
 roups\, community leaders and educators to provide additional outreach wit
 hin Licking County and help create special programs that could be adopted 
 by other Soil & Water Districts.\n\n3. Lack of information about natural r
 esources to youth. Need to create better social media and electronic platf
 orms to reach millennials\, GEN X\, GEN Y and GEN Z. Become a permanent re
 source for conservation information. Create additional programs that will 
 engage young children and adults.\n
X-WR-RELCALID:d6f60bc7ae5ccecc27f35ace8532b62e
X-WR-TIMEZONE:America/New_York
BEGIN:VTIMEZONE
TZID:America/New_York
BEGIN:STANDARD
TZNAME:EST
DTSTART:20201101T020000
TZOFFSETFROM:-0400
TZOFFSETTO:-0500
RDATE:20211107T020000
END:STANDARD
BEGIN:DAYLIGHT
TZNAME:EDT
DTSTART:20200308T020000
TZOFFSETFROM:-0500
TZOFFSETTO:-0400
RDATE:20210314T020000
RDATE:20220313T020000
END:DAYLIGHT
END:VTIMEZONE
BEGIN:VEVENT
UID:06708259-927a-45d0-b7b6-a48e50250fa8
DTSTAMP:20260424T100830Z
DESCRIPTION:2020 Board of Supervisor Election\nLicking County Soil & Water 
 Conservation District has a five-member Board of Supervisors elected by la
 ndowners and residents of Licking County.   As unpaid Public Officials\, t
 he Board members are responsible for conducting business within the scope 
 of the laws and administrative rules that govern LCSWCD.  Board members al
 so help guide Soil & Water’s mission with professionalism\, efficiency\, a
 nd effectiveness. \n\nEach candidate provided their thoughts on why Soil &
  Water’s mission was meaningful and explained what they saw as the three b
 iggest natural resource challenges facing Licking County during the next f
 ive years.\n\nKim Byce lives in Granville Township and is the Homestead Co
 ordinator at Denison University.  As a mom of three\, she knows she is bor
 rowing the earth from her children and theirs.  Licking Soil & Water empow
 ers her and other sustainability-minded residents of the county with knowl
 edge and resources to ensure a viable\, abundant future for all. \n\nThree
  challenges: \n\n1.     Making Licking Soil & Water’s resources and opport
 unities more accessible and engaging to a larger population of county resi
 dents\, homeowners\, and consumers. \n\n2.     Finding financial incentive
 s or other assistance to help landowners make environmentally conscious (b
 ut sometimes expensive) choices.\n\n3.     Strengthen and publicize connec
 tions among like-minded entities and organizations to create a county-wide
  culture of conservation. \n\n \n\nBill Goodman is completing his first te
 rm on the Licking County Board of Supervisors and currently serves as a Di
 rector for the Ohio Federation of Soil & Water Conservation Districts.\n\n
 Soil & Water offers assistance in many areas – land preservation\, mini-gr
 ants\, stormwater management\, etc. – to promote conservation in this dive
 rse county. \n\nThree challenges: \n\n1.     Logjams- Almost every creek o
 r stream has developed logjams in the past few years.  Working on removing
  them will be challenging. \n2.     Cover Crops- Continue to encourage the
  cover crop program by offering as much cost-share as possible.\n3.     Co
 ntinue to work with developers in urban settings by stressing the needs fo
 r conservation in all areas of construction.\n\nRhonda Reda lives in Patas
 kala and has been recognized with numerous awards for STEM-related educati
 on programs related to natural resources.  \n\nI have been involved in nat
 ural resources for almost 35 years. Licking County Soil & Water Conservati
 on District is very meaningful to me because I have seen first-hand how wo
 rking with local leadership and creating educational programs can be very 
 useful.\n\n1. Education on water quality and healthy soils for agriculture
  production. Encourage the development of additional public outreach progr
 ams to educate the general public. Review and help execute established Str
 ategic Plans.\n\n2. Establish more partnerships with various community gro
 ups\, community leaders and educators to provide additional outreach withi
 n Licking County and help create special programs that could be adopted by
  other Soil & Water Districts.\n\n3. Lack of information about natural res
 ources to youth. Need to create better social media and electronic platfor
 ms to reach millennials\, GEN X\, GEN Y and GEN Z. Become a permanent reso
 urce for conservation information. Create additional programs that will en
 gage young children and adults.\n
DTSTART;TZID=America/New_York:20201112T163000
DTEND;TZID=America/New_York:20201112T183000
LOCATION:
SUMMARY:Drive Thru Voting for Board Election
END:VEVENT
END:VCALENDAR
