BEGIN:VCALENDAR
VERSION:2.0
PRODID:-//lickingswcd.com//NONSGML kigkonsult.se iCalcreator 2.30.10//
CALSCALE:GREGORIAN
METHOD:PUBLISH
UID:245a4e81-96c0-45cc-97f5-ff22c15318b7
X-WR-CALDESC:
X-WR-RELCALID:b9b2f81e49b39e25127218dcabde509e
X-WR-TIMEZONE:America/New_York
BEGIN:VTIMEZONE
TZID:America/New_York
BEGIN:STANDARD
TZNAME:EST
DTSTART:20201101T020000
TZOFFSETFROM:-0400
TZOFFSETTO:-0500
RDATE:20211107T020000
END:STANDARD
BEGIN:DAYLIGHT
TZNAME:EDT
DTSTART:20200308T020000
TZOFFSETFROM:-0500
TZOFFSETTO:-0400
RDATE:20210314T020000
RDATE:20220313T020000
END:DAYLIGHT
END:VTIMEZONE
BEGIN:VEVENT
UID:1d757286-46fc-4887-ae4d-0f552f6ca7ec
DTSTAMP:20260424T101133Z
DESCRIPTION:
DTSTART;TZID=America/New_York:20201126T000000
DTEND;TZID=America/New_York:20201126T235900
LOCATION:
SUMMARY:Thanksgiving Day - office closed
END:VEVENT
END:VCALENDAR
