BEGIN:VCALENDAR
VERSION:2.0
PRODID:-//lickingswcd.com//NONSGML kigkonsult.se iCalcreator 2.30.10//
CALSCALE:GREGORIAN
METHOD:PUBLISH
UID:4da3fa25-b5ac-494d-ba26-05391ab5db38
X-WR-CALDESC:April is Ohio's Native Plant Month! This year we would like to
  encourage gardeners across Ohio to plant Pocket Pollinator Gardens.  Thes
 e can be very small or very large.  How much lawn area can we change into 
 beneficial habitats?
X-WR-RELCALID:3490f180856c497d67b52aff48bbcd49
X-WR-TIMEZONE:America/New_York
BEGIN:VTIMEZONE
TZID:America/New_York
BEGIN:STANDARD
TZNAME:EST
DTSTART:20201101T020000
TZOFFSETFROM:-0400
TZOFFSETTO:-0500
RDATE:20211107T020000
END:STANDARD
BEGIN:DAYLIGHT
TZNAME:EDT
DTSTART:20210314T020000
TZOFFSETFROM:-0500
TZOFFSETTO:-0400
RDATE:20220313T020000
END:DAYLIGHT
END:VTIMEZONE
BEGIN:VEVENT
UID:ba0f7ea4-2452-45a1-af82-cec35c4ad767
DTSTAMP:20260424T004257Z
DESCRIPTION:April is Ohio's Native Plant Month! This year we would like to 
 encourage gardeners across Ohio to plant Pocket Pollinator Gardens.  These
  can be very small or very large.  How much lawn area can we change into b
 eneficial habitats?
DTSTART;TZID=America/New_York:20210401T000000
DTEND;TZID=America/New_York:20210401T235900
LOCATION:
SUMMARY:Native Plant Month
END:VEVENT
END:VCALENDAR
