BEGIN:VCALENDAR
VERSION:2.0
PRODID:-//lickingswcd.com//NONSGML kigkonsult.se iCalcreator 2.30.10//
CALSCALE:GREGORIAN
METHOD:PUBLISH
UID:62f9d2fa-8367-4e73-967a-efcb170dc4fd
X-WR-CALDESC:Annually\, we distribute tens of thousands of trees. Consider 
 helping inventory and package the delicate seedling trees\, put together w
 ildflower seed packets and assist community members when they pick up thei
 r trees. Opportunities are inside and outside\, sitting and standing\, and
  for a couple hours or for a whole day. Please consider signing up to volu
 nteer!
X-WR-RELCALID:73a3a658224a48a01d12a36d9637de51
X-WR-TIMEZONE:America/New_York
BEGIN:VTIMEZONE
TZID:America/New_York
BEGIN:STANDARD
TZNAME:EST
DTSTART:20201101T020000
TZOFFSETFROM:-0400
TZOFFSETTO:-0500
RDATE:20211107T020000
END:STANDARD
BEGIN:DAYLIGHT
TZNAME:EDT
DTSTART:20210314T020000
TZOFFSETFROM:-0500
TZOFFSETTO:-0400
RDATE:20220313T020000
END:DAYLIGHT
END:VTIMEZONE
BEGIN:VEVENT
UID:9b476bd2-178a-4ffa-922e-63058cd68b8d
DTSTAMP:20260424T004610Z
DESCRIPTION:Annually\, we distribute tens of thousands of trees. Consider h
 elping inventory and package the delicate seedling trees\, put together wi
 ldflower seed packets and assist community members when they pick up their
  trees. Opportunities are inside and outside\, sitting and standing\, and 
 for a couple hours or for a whole day. Please consider signing up to volun
 teer!
DTSTART;TZID=America/New_York:20210407T000000
DTEND;TZID=America/New_York:20210407T235900
LOCATION:
SUMMARY:Tree Sale Packing Volunteer Day
END:VEVENT
END:VCALENDAR
