BEGIN:VCALENDAR
VERSION:2.0
PRODID:-//lickingswcd.com//NONSGML kigkonsult.se iCalcreator 2.30.10//
CALSCALE:GREGORIAN
METHOD:PUBLISH
UID:cb41fa4a-cdeb-4eda-8f68-f09d388c58fc
X-WR-CALDESC:Learn about solar energy solutions for your farm with a presen
 tation by Rural Energy for America Program (REAP). The goal of this progra
 m is to ensure that member farmers who attend are equipped with:  \n-knowl
 edge of the Rural Energy for America Program\n-information needed to asses
 s applicability / feasibility for their own operations\n-clear next steps 
 if they wish to pursue accessing REAP for solar or other energy efficiency
  or renewable energy projects
X-WR-RELCALID:7f665247155732515b647e4e426e1eba
X-WR-TIMEZONE:America/New_York
BEGIN:VTIMEZONE
TZID:America/New_York
BEGIN:STANDARD
TZNAME:EST
DTSTART:20201101T020000
TZOFFSETFROM:-0400
TZOFFSETTO:-0500
RDATE:20211107T020000
END:STANDARD
BEGIN:DAYLIGHT
TZNAME:EDT
DTSTART:20210314T020000
TZOFFSETFROM:-0500
TZOFFSETTO:-0400
RDATE:20220313T020000
END:DAYLIGHT
END:VTIMEZONE
BEGIN:VEVENT
UID:557989cb-56b5-40d4-9711-8d1efb9d86a0
DTSTAMP:20260424T004421Z
DESCRIPTION:Learn about solar energy solutions for your farm with a present
 ation by Rural Energy for America Program (REAP). The goal of this program
  is to ensure that member farmers who attend are equipped with:  \n-knowle
 dge of the Rural Energy for America Program\n-information needed to assess
  applicability / feasibility for their own operations\n-clear next steps i
 f they wish to pursue accessing REAP for solar or other energy efficiency 
 or renewable energy projects
DTSTART;TZID=America/New_York:20210411T190000
DTEND;TZID=America/New_York:20210412T050000
LOCATION:
SUMMARY:OEFFA SWOEFFA Chapter
END:VEVENT
END:VCALENDAR
