BEGIN:VCALENDAR
VERSION:2.0
PRODID:-//lickingswcd.com//NONSGML kigkonsult.se iCalcreator 2.30.10//
CALSCALE:GREGORIAN
METHOD:PUBLISH
UID:5f7be9af-3430-4111-ae4f-57c1d3e8c1e0
X-WR-CALDESC:Join in this chapter meeting to pick up some tips on weed mana
 gement techniques for the home garden or small market garden.
X-WR-RELCALID:c96197e2db1764c32a94ea8648b6f7ba
X-WR-TIMEZONE:America/New_York
BEGIN:VTIMEZONE
TZID:America/New_York
BEGIN:STANDARD
TZNAME:EST
DTSTART:20201101T020000
TZOFFSETFROM:-0400
TZOFFSETTO:-0500
RDATE:20211107T020000
END:STANDARD
BEGIN:DAYLIGHT
TZNAME:EDT
DTSTART:20210314T020000
TZOFFSETFROM:-0500
TZOFFSETTO:-0400
RDATE:20220313T020000
END:DAYLIGHT
END:VTIMEZONE
BEGIN:VEVENT
UID:694c4061-3fb8-4ce0-9483-5124742461c2
DTSTAMP:20260424T005051Z
DESCRIPTION:Join in this chapter meeting to pick up some tips on weed manag
 ement techniques for the home garden or small market garden.
DTSTART;TZID=America/New_York:20210414T183000
DTEND;TZID=America/New_York:20210414T193000
LOCATION:
SUMMARY:OEFFA Heart of Ohio Chapter
END:VEVENT
END:VCALENDAR
