BEGIN:VCALENDAR
VERSION:2.0
PRODID:-//lickingswcd.com//NONSGML kigkonsult.se iCalcreator 2.30.10//
CALSCALE:GREGORIAN
METHOD:PUBLISH
UID:4040b059-d538-4961-b81f-c63fbbaba018
X-WR-CALDESC:Participate in an outdoor farm tour\, with masks and social di
 stancing\, at A's and O's Farm in Mentor\, OH. You will see examples of no
 -till mulch farming\, solar water pumping\, deer and rabbit pest protectio
 n techniques. Attendees will have an opportunity to take part in planting 
 some seeds\, asparagus roots\, and perennials and can take home some fresh
 ly-harvested asparagus and well-composted wood-chips! Pre-registration is 
 required.
X-WR-RELCALID:5d87027237125a158ed06178fa10e777
X-WR-TIMEZONE:America/New_York
BEGIN:VTIMEZONE
TZID:America/New_York
BEGIN:STANDARD
TZNAME:EST
DTSTART:20201101T020000
TZOFFSETFROM:-0400
TZOFFSETTO:-0500
RDATE:20211107T020000
END:STANDARD
BEGIN:DAYLIGHT
TZNAME:EDT
DTSTART:20210314T020000
TZOFFSETFROM:-0500
TZOFFSETTO:-0400
RDATE:20220313T020000
END:DAYLIGHT
END:VTIMEZONE
BEGIN:VEVENT
UID:11089e53-f7c4-4228-b48f-f5a102267e21
DTSTAMP:20260424T004246Z
DESCRIPTION:Participate in an outdoor farm tour\, with masks and social dis
 tancing\, at A's and O's Farm in Mentor\, OH. You will see examples of no-
 till mulch farming\, solar water pumping\, deer and rabbit pest protection
  techniques. Attendees will have an opportunity to take part in planting s
 ome seeds\, asparagus roots\, and perennials and can take home some freshl
 y-harvested asparagus and well-composted wood-chips! Pre-registration is r
 equired.
DTSTART;TZID=America/New_York:20210417T100000
DTEND;TZID=America/New_York:20210417T110000
LOCATION:
SUMMARY:OEFFA Lake Effect Chapter
END:VEVENT
END:VCALENDAR
