BEGIN:VCALENDAR
VERSION:2.0
PRODID:-//lickingswcd.com//NONSGML kigkonsult.se iCalcreator 2.30.10//
CALSCALE:GREGORIAN
METHOD:PUBLISH
UID:1465f0e5-7bb9-4112-8fd2-e84495cb56fb
X-WR-CALDESC:Annually\, we distribute tens of thousands of trees.  Consider
  helping inventory and package the delicate seedling trees\, put together 
 wildflower seed packets and assist community members when they pick up the
 ir trees.  Opportunities are inside and outside\, sitting and standing\, a
 nd for a couple hours or for a whole day. Please consider signing up to vo
 lunteer!
X-WR-RELCALID:65af6ce1eb043af59810a96e447fa0aa
X-WR-TIMEZONE:America/New_York
BEGIN:VTIMEZONE
TZID:America/New_York
BEGIN:STANDARD
TZNAME:EST
DTSTART:20201101T020000
TZOFFSETFROM:-0400
TZOFFSETTO:-0500
RDATE:20211107T020000
END:STANDARD
BEGIN:DAYLIGHT
TZNAME:EDT
DTSTART:20210314T020000
TZOFFSETFROM:-0500
TZOFFSETTO:-0400
RDATE:20220313T020000
END:DAYLIGHT
END:VTIMEZONE
BEGIN:VEVENT
UID:bd3a8b2c-5a14-4176-b44b-34a87e2d2713
DTSTAMP:20260424T004610Z
DESCRIPTION:Annually\, we distribute tens of thousands of trees.  Consider 
 helping inventory and package the delicate seedling trees\, put together w
 ildflower seed packets and assist community members when they pick up thei
 r trees.  Opportunities are inside and outside\, sitting and standing\, an
 d for a couple hours or for a whole day. Please consider signing up to vol
 unteer!
DTSTART;TZID=America/New_York:20210426T000000
DTEND;TZID=America/New_York:20210426T235900
LOCATION:
SUMMARY:Backyard Conservation Day Volunteer Day
END:VEVENT
END:VCALENDAR
