BEGIN:VCALENDAR
VERSION:2.0
PRODID:-//lickingswcd.com//NONSGML kigkonsult.se iCalcreator 2.30.10//
CALSCALE:GREGORIAN
METHOD:PUBLISH
UID:229d84f3-f5dc-4ef8-b829-27d15a75331b
X-WR-CALDESC:Place your orders for the 2021 Fish Sale by the end of the day
 !
X-WR-RELCALID:5327528fed97f6f20e0e785dc753133d
X-WR-TIMEZONE:America/New_York
BEGIN:VTIMEZONE
TZID:America/New_York
BEGIN:STANDARD
TZNAME:EST
DTSTART:20201101T020000
TZOFFSETFROM:-0400
TZOFFSETTO:-0500
RDATE:20211107T020000
END:STANDARD
BEGIN:DAYLIGHT
TZNAME:EDT
DTSTART:20210314T020000
TZOFFSETFROM:-0500
TZOFFSETTO:-0400
RDATE:20220313T020000
END:DAYLIGHT
END:VTIMEZONE
BEGIN:VEVENT
UID:bf6d4619-2de2-4c87-b0d2-6a01a2c5b8c9
DTSTAMP:20260424T004705Z
DESCRIPTION:Place your orders for the 2021 Fish Sale by the end of the day!
DTSTART;TZID=America/New_York:20210429T000000
DTEND;TZID=America/New_York:20210429T235900
LOCATION:
SUMMARY:Last Day for Fish Sale Orders
END:VEVENT
END:VCALENDAR
