BEGIN:VCALENDAR
VERSION:2.0
PRODID:-//lickingswcd.com//NONSGML kigkonsult.se iCalcreator 2.30.10//
CALSCALE:GREGORIAN
METHOD:PUBLISH
UID:cb33dce1-7d8a-49d1-8a25-089ebe657017
X-WR-CALDESC:Trees provide the very necessities of life itself. They clean 
 our air\, protect our drinking water\, create healthy communities\, and fe
 ed the human soul. But these life necessities are threatened around the gl
 obe.\n\nTo address this\, we’re launching an unprecedented undertaking: th
 e Time for Trees initiative. Together\, we can create change … through tre
 es.
X-WR-RELCALID:3607eccd9c8c6f7f4c249fb1b8a796b5
X-WR-TIMEZONE:America/New_York
BEGIN:VTIMEZONE
TZID:America/New_York
BEGIN:STANDARD
TZNAME:EST
DTSTART:20201101T020000
TZOFFSETFROM:-0400
TZOFFSETTO:-0500
RDATE:20211107T020000
END:STANDARD
BEGIN:DAYLIGHT
TZNAME:EDT
DTSTART:20210314T020000
TZOFFSETFROM:-0500
TZOFFSETTO:-0400
RDATE:20220313T020000
END:DAYLIGHT
END:VTIMEZONE
BEGIN:VEVENT
UID:72f8207e-06dd-43c4-b762-a5efd3e1a06a
DTSTAMP:20260424T004109Z
DESCRIPTION:Trees provide the very necessities of life itself. They clean o
 ur air\, protect our drinking water\, create healthy communities\, and fee
 d the human soul. But these life necessities are threatened around the glo
 be.\n\nTo address this\, we’re launching an unprecedented undertaking: the
  Time for Trees initiative. Together\, we can create change … through tree
 s.
DTSTART;TZID=America/New_York:20210430T000000
DTEND;TZID=America/New_York:20210430T235900
LOCATION:
SUMMARY:Arbor Day
END:VEVENT
END:VCALENDAR
