BEGIN:VCALENDAR
VERSION:2.0
PRODID:-//lickingswcd.com//NONSGML kigkonsult.se iCalcreator 2.30.10//
CALSCALE:GREGORIAN
METHOD:PUBLISH
UID:de95ae79-96f9-4810-a331-073995a2925c
X-WR-CALDESC:A Day of Education and Celebration of Licking County’s Natural
  Wonders!\n\nJoin us for a day of hands-on activities at Licking County So
 il and Water Conservation District’s very own Land Lab! Come experience al
 l we have to offer with activities such as:\n\n·         Exploring a verna
 l pool\n\n·         Learning about rain gardens and and the pollinators it
  will attract\n\n·          Identifying native and invasive species with t
 astings of foraged food\n\n·         Nature-related craft kits for kids\n
 \n·         And MORE!\n\nWant to take the fun home? Tree seedlings\, rain 
 barrels\, pond management books\, and a host of conservation products will
  also be available for purchase!\n\nLocation:  Soil & Water barn\, next to
  our office at 771 East Main Street • Newark\, OH 43055
X-WR-RELCALID:ea74d22946117b12ccae1215e6cdb965
X-WR-TIMEZONE:America/New_York
BEGIN:VTIMEZONE
TZID:America/New_York
BEGIN:STANDARD
TZNAME:EST
DTSTART:20201101T020000
TZOFFSETFROM:-0400
TZOFFSETTO:-0500
RDATE:20211107T020000
RDATE:20221106T020000
END:STANDARD
BEGIN:DAYLIGHT
TZNAME:EDT
DTSTART:20210314T020000
TZOFFSETFROM:-0500
TZOFFSETTO:-0400
RDATE:20220313T020000
END:DAYLIGHT
END:VTIMEZONE
BEGIN:VEVENT
UID:8381a387-0ac2-466a-a1e6-50e4ffed8863
DTSTAMP:20260423T231121Z
DESCRIPTION:A Day of Education and Celebration of Licking County’s Natural 
 Wonders!\n\nJoin us for a day of hands-on activities at Licking County Soi
 l and Water Conservation District’s very own Land Lab! Come experience all
  we have to offer with activities such as:\n\n·         Exploring a vernal
  pool\n\n·         Learning about rain gardens and and the pollinators it 
 will attract\n\n·          Identifying native and invasive species with ta
 stings of foraged food\n\n·         Nature-related craft kits for kids\n\n
 ·         And MORE!\n\nWant to take the fun home? Tree seedlings\, rain ba
 rrels\, pond management books\, and a host of conservation products will a
 lso be available for purchase!\n\nLocation:  Soil & Water barn\, next to o
 ur office at 771 East Main Street • Newark\, OH 43055
DTSTART;TZID=America/New_York:20210508T100000
DTEND;TZID=America/New_York:20210508T140000
LOCATION:Soil & Water barn\, next to our office at 771 East Main Street • N
 ewark\, OH 43055
SUMMARY:Backyard Conservation Day
END:VEVENT
END:VCALENDAR
