BEGIN:VCALENDAR
VERSION:2.0
PRODID:-//lickingswcd.com//NONSGML kigkonsult.se iCalcreator 2.30.10//
CALSCALE:GREGORIAN
METHOD:PUBLISH
UID:80c81815-3e1e-4981-b490-a6da02dc443b
X-WR-CALDESC:The 2021 Ohio Stormwater Conference  is an annual conference d
 edicated to advance the knowledge and understanding of comprehensive storm
 water management for those dealing in all aspects of planning\, design\, i
 mplementation and regulatory compliance. This year’s conference is being h
 eld May 20-21\, 2021 at the Kalahari Resort and Conference Center located 
 in Sandusky\, Ohio. The conference will provide updates on environmental i
 ssues\, new technologies\, regulatory information and pollution prevention
 . The 2021 Ohio Stormwater Conference is a great opportunity to strengthen
  your skills and knowledge in an intensive workshop setting with other col
 leagues.
X-WR-RELCALID:1096b20b56bcb4f7c68079731bed2963
X-WR-TIMEZONE:America/New_York
BEGIN:VTIMEZONE
TZID:America/New_York
BEGIN:STANDARD
TZNAME:EST
DTSTART:20201101T020000
TZOFFSETFROM:-0400
TZOFFSETTO:-0500
RDATE:20211107T020000
RDATE:20221106T020000
END:STANDARD
BEGIN:DAYLIGHT
TZNAME:EDT
DTSTART:20210314T020000
TZOFFSETFROM:-0500
TZOFFSETTO:-0400
RDATE:20220313T020000
END:DAYLIGHT
END:VTIMEZONE
BEGIN:VEVENT
UID:63f14f0c-d291-4c81-aa23-8a178697868e
DTSTAMP:20260423T230208Z
DESCRIPTION:The 2021 Ohio Stormwater Conference  is an annual conference de
 dicated to advance the knowledge and understanding of comprehensive stormw
 ater management for those dealing in all aspects of planning\, design\, im
 plementation and regulatory compliance. This year’s conference is being he
 ld May 20-21\, 2021 at the Kalahari Resort and Conference Center located i
 n Sandusky\, Ohio. The conference will provide updates on environmental is
 sues\, new technologies\, regulatory information and pollution prevention.
  The 2021 Ohio Stormwater Conference is a great opportunity to strengthen 
 your skills and knowledge in an intensive workshop setting with other coll
 eagues.
DTSTART;TZID=America/New_York:20210520T000000
DTEND;TZID=America/New_York:20210521T235900
LOCATION:
SUMMARY:2021 Ohio Stormwater Conference
END:VEVENT
END:VCALENDAR
