BEGIN:VCALENDAR
VERSION:2.0
PRODID:-//lickingswcd.com//NONSGML kigkonsult.se iCalcreator 2.30.10//
CALSCALE:GREGORIAN
METHOD:PUBLISH
UID:76e3e433-9c89-4e76-adf5-5ca208f4705b
X-WR-CALDESC:For centuries bees\, among the hardest working creatures on th
 e planet\, have benefited people\, plants and the environment. By carrying
  pollen from one flower to another\, bees and other pollinators enable not
  only the production of an abundance of fruits\, nuts and seeds\, but also
  more variety and better quality\, contributing to food security and nutri
 tion.\n\nPollinators such as bees\, birds and bats\, affect 35 percent of 
 the world's crop production\, increasing outputs of 87 of the leading food
  crops worldwide\, plus many plant-derived medicines. Three out of four cr
 ops across the globe producing fruits or seeds for human use as food depen
 d\, at least in part\, on pollinators.
X-WR-RELCALID:32d071de1f737737a9ae6944e714afd7
X-WR-TIMEZONE:America/New_York
BEGIN:VTIMEZONE
TZID:America/New_York
BEGIN:STANDARD
TZNAME:EST
DTSTART:20201101T020000
TZOFFSETFROM:-0400
TZOFFSETTO:-0500
RDATE:20211107T020000
RDATE:20221106T020000
END:STANDARD
BEGIN:DAYLIGHT
TZNAME:EDT
DTSTART:20210314T020000
TZOFFSETFROM:-0500
TZOFFSETTO:-0400
RDATE:20220313T020000
END:DAYLIGHT
END:VTIMEZONE
BEGIN:VEVENT
UID:3e4228c2-5e95-4047-8c82-5f599672a02f
DTSTAMP:20260423T230535Z
DESCRIPTION:For centuries bees\, among the hardest working creatures on the
  planet\, have benefited people\, plants and the environment. By carrying 
 pollen from one flower to another\, bees and other pollinators enable not 
 only the production of an abundance of fruits\, nuts and seeds\, but also 
 more variety and better quality\, contributing to food security and nutrit
 ion.\n\nPollinators such as bees\, birds and bats\, affect 35 percent of t
 he world's crop production\, increasing outputs of 87 of the leading food 
 crops worldwide\, plus many plant-derived medicines. Three out of four cro
 ps across the globe producing fruits or seeds for human use as food depend
 \, at least in part\, on pollinators.
DTSTART;TZID=America/New_York:20210520T000000
DTEND;TZID=America/New_York:20210520T235900
LOCATION:
SUMMARY:World Bee Day
END:VEVENT
END:VCALENDAR
