BEGIN:VCALENDAR
VERSION:2.0
PRODID:-//lickingswcd.com//NONSGML kigkonsult.se iCalcreator 2.30.10//
CALSCALE:GREGORIAN
METHOD:PUBLISH
UID:9e4ec72b-c3bc-4f52-926e-5965423cc709
X-WR-CALDESC:
X-WR-RELCALID:a597368d7e1237cd87397a5277b51b12
X-WR-TIMEZONE:America/New_York
BEGIN:VTIMEZONE
TZID:America/New_York
BEGIN:STANDARD
TZNAME:EST
DTSTART:20201101T020000
TZOFFSETFROM:-0400
TZOFFSETTO:-0500
RDATE:20211107T020000
RDATE:20221106T020000
END:STANDARD
BEGIN:DAYLIGHT
TZNAME:EDT
DTSTART:20210314T020000
TZOFFSETFROM:-0500
TZOFFSETTO:-0400
RDATE:20220313T020000
END:DAYLIGHT
END:VTIMEZONE
BEGIN:VEVENT
UID:2e72fa8e-440b-4621-9217-d79981e6b2e0
DTSTAMP:20260423T212008Z
DESCRIPTION:
DTSTART;TZID=America/New_York:20210609T090000
DTEND;TZID=America/New_York:20210609T100000
LOCATION:
SUMMARY:MS4 Consortium Meeting
END:VEVENT
END:VCALENDAR
