BEGIN:VCALENDAR
VERSION:2.0
PRODID:-//lickingswcd.com//NONSGML kigkonsult.se iCalcreator 2.30.10//
CALSCALE:GREGORIAN
METHOD:PUBLISH
UID:af299738-fa6b-4b04-ab66-69ad55eb9b5b
X-WR-CALDESC:Do you know how your water reaches the faucet? Or where water 
 travels after you flush your toilet? Learn how storm water affects our wat
 ershed and what citizens\, educators\, and landowners can do to help. Find
  these answers while exploring water facilities in Newark.\n\nIntroductory
  Zoom meeting at 9am and 2 weeks to complete the workshop assignments\, at
  your own pace. Assignment due date: July 1\, 2021.
X-WR-RELCALID:8d8270b58a5dcd9d494a071f97cd36d1
X-WR-TIMEZONE:America/New_York
BEGIN:VTIMEZONE
TZID:America/New_York
BEGIN:STANDARD
TZNAME:EST
DTSTART:20201101T020000
TZOFFSETFROM:-0400
TZOFFSETTO:-0500
RDATE:20211107T020000
RDATE:20221106T020000
END:STANDARD
BEGIN:DAYLIGHT
TZNAME:EDT
DTSTART:20210314T020000
TZOFFSETFROM:-0500
TZOFFSETTO:-0400
RDATE:20220313T020000
END:DAYLIGHT
END:VTIMEZONE
BEGIN:VEVENT
UID:c318c1af-eca9-41f9-9b7a-6d1f42d96d06
DTSTAMP:20260423T211153Z
DESCRIPTION:Do you know how your water reaches the faucet? Or where water t
 ravels after you flush your toilet? Learn how storm water affects our wate
 rshed and what citizens\, educators\, and landowners can do to help. Find 
 these answers while exploring water facilities in Newark.\n\nIntroductory 
 Zoom meeting at 9am and 2 weeks to complete the workshop assignments\, at 
 your own pace. Assignment due date: July 1\, 2021.
DTSTART;TZID=America/New_York:20210617T090000
DTEND;TZID=America/New_York:20210617T100000
LOCATION:
SUMMARY:Virtual Educator Workshop: Infrastructure Tour
END:VEVENT
END:VCALENDAR
