BEGIN:VCALENDAR
VERSION:2.0
PRODID:-//lickingswcd.com//NONSGML kigkonsult.se iCalcreator 2.30.10//
CALSCALE:GREGORIAN
METHOD:PUBLISH
UID:6a4fd906-7700-4b68-b56f-54eaa9cfba91
X-WR-CALDESC:Project WET is a water focused conservation education program 
 for K-12 educators and their students. Topics include\, physical and chemi
 cal properties of water\, the water cycle\, water in life systems\, water 
 in earth systems\, water as a resource\, managing water resources\, water 
 in social and cultural constructs. Healthy Water\, Healthy People focuses 
 on grades six through university level to raise the awareness and understa
 nding of water quality issues and their relationship to personal\, public 
 and environmental health. Participants receive both curriculum and activit
 y guides.
X-WR-RELCALID:58cdce29445d5d8143bd1939b7047abe
X-WR-TIMEZONE:America/New_York
BEGIN:VTIMEZONE
TZID:America/New_York
BEGIN:STANDARD
TZNAME:EST
DTSTART:20201101T020000
TZOFFSETFROM:-0400
TZOFFSETTO:-0500
RDATE:20211107T020000
RDATE:20221106T020000
END:STANDARD
BEGIN:DAYLIGHT
TZNAME:EDT
DTSTART:20210314T020000
TZOFFSETFROM:-0500
TZOFFSETTO:-0400
RDATE:20220313T020000
END:DAYLIGHT
END:VTIMEZONE
BEGIN:VEVENT
UID:51d61bdb-fbea-4d01-9694-e5e61b9e3095
DTSTAMP:20260423T193406Z
DESCRIPTION:Project WET is a water focused conservation education program f
 or K-12 educators and their students. Topics include\, physical and chemic
 al properties of water\, the water cycle\, water in life systems\, water i
 n earth systems\, water as a resource\, managing water resources\, water i
 n social and cultural constructs. Healthy Water\, Healthy People focuses o
 n grades six through university level to raise the awareness and understan
 ding of water quality issues and their relationship to personal\, public a
 nd environmental health. Participants receive both curriculum and activity
  guides.
DTSTART;TZID=America/New_York:20210701T090000
DTEND;TZID=America/New_York:20210701T100000
LOCATION:
SUMMARY:Virtual Educator Workshop: Project WET/Healthy Water\, Healthy Peop
 le
END:VEVENT
END:VCALENDAR
