BEGIN:VCALENDAR
VERSION:2.0
PRODID:-//lickingswcd.com//NONSGML kigkonsult.se iCalcreator 2.30.10//
CALSCALE:GREGORIAN
METHOD:PUBLISH
UID:9fb09375-c8be-4345-b977-d54540cdb04e
X-WR-CALDESC:Project WILD is concerned with providing information as well a
 s helping students evaluate choices and make responsible decisions about w
 ildlife and the environment. All\ncurriculum materials are backed by sound
  educational practices and theory\, and represent the work of many within 
 the fields of education and natural resource management from across the co
 untry. Participants receive Project WILD K-12 Curriculum and Activity Guid
 e and WILD Aquatic K-12 Curriculum and Activity Guide\, which focuses on a
 quatic wildlife and ecosystems. Eligible for WILD School Site grants upon 
 certification.\n\nCitizen Science workshop will offer ways to experience p
 roject-based learning that is accessible in any setting\, outdoors\, or cl
 assroom. This fun and interactive workshop covers a variety of topics like
  ant investigations\, micro hike with macro lenses\, and nature journals. 
 We will use the scientific method\, critical thinking\, technology\, and o
 ur senses to connect ways to bring the classroom into nature. Citizen Scie
 nce enables all of us to collectively manage the health and well-being of 
 ourselves and our planet.
X-WR-RELCALID:82b6c9436ee1b974acd09e6b610876ef
X-WR-TIMEZONE:America/New_York
BEGIN:VTIMEZONE
TZID:America/New_York
BEGIN:STANDARD
TZNAME:EST
DTSTART:20201101T020000
TZOFFSETFROM:-0400
TZOFFSETTO:-0500
RDATE:20211107T020000
RDATE:20221106T020000
END:STANDARD
BEGIN:DAYLIGHT
TZNAME:EDT
DTSTART:20210314T020000
TZOFFSETFROM:-0500
TZOFFSETTO:-0400
RDATE:20220313T020000
END:DAYLIGHT
END:VTIMEZONE
BEGIN:VEVENT
UID:b3887bf5-1fb0-4f18-a89e-81ab3df7213a
DTSTAMP:20260423T193211Z
DESCRIPTION:Project WILD is concerned with providing information as well as
  helping students evaluate choices and make responsible decisions about wi
 ldlife and the environment. All\ncurriculum materials are backed by sound 
 educational practices and theory\, and represent the work of many within t
 he fields of education and natural resource management from across the cou
 ntry. Participants receive Project WILD K-12 Curriculum and Activity Guide
  and WILD Aquatic K-12 Curriculum and Activity Guide\, which focuses on aq
 uatic wildlife and ecosystems. Eligible for WILD School Site grants upon c
 ertification.\n\nCitizen Science workshop will offer ways to experience pr
 oject-based learning that is accessible in any setting\, outdoors\, or cla
 ssroom. This fun and interactive workshop covers a variety of topics like 
 ant investigations\, micro hike with macro lenses\, and nature journals. W
 e will use the scientific method\, critical thinking\, technology\, and ou
 r senses to connect ways to bring the classroom into nature. Citizen Scien
 ce enables all of us to collectively manage the health and well-being of o
 urselves and our planet.
DTSTART;TZID=America/New_York:20210715T000000
DTEND;TZID=America/New_York:20210715T235900
LOCATION:
SUMMARY:In-Person Educator Workshop: Citizen Science/ Project WILD/Aquatic 
 WILD
END:VEVENT
END:VCALENDAR
