BEGIN:VCALENDAR
VERSION:2.0
PRODID:-//lickingswcd.com//NONSGML kigkonsult.se iCalcreator 2.30.10//
CALSCALE:GREGORIAN
METHOD:PUBLISH
UID:402c53b8-4501-4fd0-9148-839442a138ca
X-WR-CALDESC:Join the Licking County Master Gardeners for their annual open
 -house!
X-WR-RELCALID:af4f154d23f361cd45cc288cf996ac35
X-WR-TIMEZONE:America/New_York
BEGIN:VTIMEZONE
TZID:America/New_York
BEGIN:STANDARD
TZNAME:EST
DTSTART:20201101T020000
TZOFFSETFROM:-0400
TZOFFSETTO:-0500
RDATE:20211107T020000
RDATE:20221106T020000
END:STANDARD
BEGIN:DAYLIGHT
TZNAME:EDT
DTSTART:20210314T020000
TZOFFSETFROM:-0500
TZOFFSETTO:-0400
RDATE:20220313T020000
END:DAYLIGHT
END:VTIMEZONE
BEGIN:VEVENT
UID:ac9d2057-9fb9-4eb6-8949-5289e6739f3f
DTSTAMP:20260423T193027Z
DESCRIPTION:Join the Licking County Master Gardeners for their annual open-
 house!
DTSTART;TZID=America/New_York:20210717T100000
DTEND;TZID=America/New_York:20210717T140000
LOCATION:
SUMMARY:Master Gardener's Open House
END:VEVENT
END:VCALENDAR
