BEGIN:VCALENDAR
VERSION:2.0
PRODID:-//lickingswcd.com//NONSGML kigkonsult.se iCalcreator 2.30.10//
CALSCALE:GREGORIAN
METHOD:PUBLISH
UID:96e69d51-7a64-432c-9abd-670a4aede127
X-WR-CALDESC:The most recent addition to Project WILD is Growing Up WILD\, 
 an activity guide for educators that aims to connect young children with n
 ature and the outdoors. Project Learning Tree offers Environmental Experie
 nces for Early Childhood. Project WET launched Getting Little Feet WET. Pa
 rticipants receive all 3 early childhood education guides to help facilita
 te interactive\, hands-on learning for PreK-2nd grade.\nStep Up To Quality
  (SUTQ) Approved.
X-WR-RELCALID:6fa55af0487ab83399668f89faa0b5e5
X-WR-TIMEZONE:America/New_York
BEGIN:VTIMEZONE
TZID:America/New_York
BEGIN:STANDARD
TZNAME:EST
DTSTART:20201101T020000
TZOFFSETFROM:-0400
TZOFFSETTO:-0500
RDATE:20211107T020000
RDATE:20221106T020000
END:STANDARD
BEGIN:DAYLIGHT
TZNAME:EDT
DTSTART:20210314T020000
TZOFFSETFROM:-0500
TZOFFSETTO:-0400
RDATE:20220313T020000
END:DAYLIGHT
END:VTIMEZONE
BEGIN:VEVENT
UID:1ba928e1-e33b-46eb-8b8c-e717f4d8a32d
DTSTAMP:20260423T193500Z
DESCRIPTION:The most recent addition to Project WILD is Growing Up WILD\, a
 n activity guide for educators that aims to connect young children with na
 ture and the outdoors. Project Learning Tree offers Environmental Experien
 ces for Early Childhood. Project WET launched Getting Little Feet WET. Par
 ticipants receive all 3 early childhood education guides to help facilitat
 e interactive\, hands-on learning for PreK-2nd grade.\nStep Up To Quality 
 (SUTQ) Approved.
DTSTART;TZID=America/New_York:20210722T000000
DTEND;TZID=America/New_York:20210722T235900
LOCATION:
SUMMARY:In-Person Educator Workshop: Environmental Education for Early Chil
 dhood
END:VEVENT
END:VCALENDAR
