BEGIN:VCALENDAR
VERSION:2.0
PRODID:-//lickingswcd.com//NONSGML kigkonsult.se iCalcreator 2.30.10//
CALSCALE:GREGORIAN
METHOD:PUBLISH
UID:22bc230f-e59a-40a6-ba4a-3dcda4328434
X-WR-CALDESC:
X-WR-RELCALID:d03e471d661d286168d2011d0ae44ae0
X-WR-TIMEZONE:America/New_York
BEGIN:VTIMEZONE
TZID:America/New_York
BEGIN:STANDARD
TZNAME:EST
DTSTART:20201101T020000
TZOFFSETFROM:-0400
TZOFFSETTO:-0500
RDATE:20211107T020000
RDATE:20221106T020000
END:STANDARD
BEGIN:DAYLIGHT
TZNAME:EDT
DTSTART:20210314T020000
TZOFFSETFROM:-0500
TZOFFSETTO:-0400
RDATE:20220313T020000
END:DAYLIGHT
END:VTIMEZONE
BEGIN:VEVENT
UID:8adc4729-52ed-4814-ab0e-d930badd11d0
DTSTAMP:20260423T192800Z
DESCRIPTION:
DTSTART;TZID=America/New_York:20210723T000000
DTEND;TZID=America/New_York:20210723T235900
LOCATION:
SUMMARY:AmeriCorps Applications Due
END:VEVENT
END:VCALENDAR
