BEGIN:VCALENDAR
VERSION:2.0
PRODID:-//lickingswcd.com//NONSGML kigkonsult.se iCalcreator 2.30.10//
CALSCALE:GREGORIAN
METHOD:PUBLISH
UID:07c05bfd-477c-44ca-b34f-9bdd6a3b467e
X-WR-CALDESC:
X-WR-RELCALID:2b9c9487108e77606592fdbfef367e16
X-WR-TIMEZONE:America/New_York
BEGIN:VTIMEZONE
TZID:America/New_York
BEGIN:STANDARD
TZNAME:EST
DTSTART:20201101T020000
TZOFFSETFROM:-0400
TZOFFSETTO:-0500
RDATE:20211107T020000
RDATE:20221106T020000
END:STANDARD
BEGIN:DAYLIGHT
TZNAME:EDT
DTSTART:20210314T020000
TZOFFSETFROM:-0500
TZOFFSETTO:-0400
RDATE:20220313T020000
END:DAYLIGHT
END:VTIMEZONE
BEGIN:VEVENT
UID:c4cf1692-7fe8-4f4e-8794-f979afd6c7bb
DTSTAMP:20260423T193130Z
DESCRIPTION:
DTSTART;TZID=America/New_York:20210725T103000
DTEND;TZID=America/New_York:20210727T113000
LOCATION:
SUMMARY:2021 Area 3 Summer Supervisor School
END:VEVENT
END:VCALENDAR
