BEGIN:VCALENDAR
VERSION:2.0
PRODID:-//lickingswcd.com//NONSGML kigkonsult.se iCalcreator 2.30.10//
CALSCALE:GREGORIAN
METHOD:PUBLISH
UID:df1375a4-2edf-4de8-9c4a-8f4ccb156426
X-WR-CALDESC:The public is welcome to attend monthly Board meetings and ser
 ve on committees.\nIn response to the public health situation with COVID-1
 9\, Governor DeWine’s directives and the Ohio Department of Health’s guida
 nce on avoiding large gatherings\, Soil & Water provides online meeting li
 nks to the public or guests who would like to attend the Board meeting.  
 \n\nContact Soil & Water at 740-670-5330 or email information@LickingSWCD.
 com to have the zoom meeting information sent to you electronically.
X-WR-RELCALID:246cfd01f6f89a5963a4547895356199
X-WR-TIMEZONE:America/New_York
BEGIN:VTIMEZONE
TZID:America/New_York
BEGIN:STANDARD
TZNAME:EST
DTSTART:20201101T020000
TZOFFSETFROM:-0400
TZOFFSETTO:-0500
RDATE:20211107T020000
RDATE:20221106T020000
END:STANDARD
BEGIN:DAYLIGHT
TZNAME:EDT
DTSTART:20210314T020000
TZOFFSETFROM:-0500
TZOFFSETTO:-0400
RDATE:20220313T020000
END:DAYLIGHT
END:VTIMEZONE
BEGIN:VEVENT
UID:4003ba31-d0e8-4427-8ca0-bfd040147fcf
DTSTAMP:20260423T193520Z
DESCRIPTION:The public is welcome to attend monthly Board meetings and serv
 e on committees.\nIn response to the public health situation with COVID-19
 \, Governor DeWine’s directives and the Ohio Department of Health’s guidan
 ce on avoiding large gatherings\, Soil & Water provides online meeting lin
 ks to the public or guests who would like to attend the Board meeting.  \n
 \nContact Soil & Water at 740-670-5330 or email information@LickingSWCD.co
 m to have the zoom meeting information sent to you electronically.
DTSTART;TZID=America/New_York:20210728T163000
DTEND;TZID=America/New_York:20210728T183000
LOCATION:
SUMMARY:Soil & Water Board of Supervisors regular monthly meeting
END:VEVENT
END:VCALENDAR
