BEGIN:VCALENDAR
VERSION:2.0
PRODID:-//lickingswcd.com//NONSGML kigkonsult.se iCalcreator 2.30.10//
CALSCALE:GREGORIAN
METHOD:PUBLISH
UID:2bcb4c11-cde8-43d5-b0dd-47e55bd00270
X-WR-CALDESC:The beautiful 4-acre Natural Resources Area at the Hartford Fa
 ir is located behind the horse arena and goat barns. Free\, family-friendl
 y programs and contests are offered throughout the week of the Hartford Fa
 ir. Join Licking County Recycling for programming at 1pm!
X-WR-RELCALID:9c6459cb5a2ccf5e8ddd8ab1f61ee295
X-WR-TIMEZONE:America/New_York
BEGIN:VTIMEZONE
TZID:America/New_York
BEGIN:STANDARD
TZNAME:EST
DTSTART:20201101T020000
TZOFFSETFROM:-0400
TZOFFSETTO:-0500
RDATE:20211107T020000
RDATE:20221106T020000
END:STANDARD
BEGIN:DAYLIGHT
TZNAME:EDT
DTSTART:20210314T020000
TZOFFSETFROM:-0500
TZOFFSETTO:-0400
RDATE:20220313T020000
END:DAYLIGHT
END:VTIMEZONE
BEGIN:VEVENT
UID:9ae5a7ed-023e-4643-bd5b-cf456673e5cc
DTSTAMP:20260423T173224Z
DESCRIPTION:The beautiful 4-acre Natural Resources Area at the Hartford Fai
 r is located behind the horse arena and goat barns. Free\, family-friendly
  programs and contests are offered throughout the week of the Hartford Fai
 r. Join Licking County Recycling for programming at 1pm!
DTSTART;TZID=America/New_York:20210809T130000
DTEND;TZID=America/New_York:20210809T150000
LOCATION:Hartford Fairgrounds
SUMMARY:Recycling Program at Hartford Fair
END:VEVENT
END:VCALENDAR
