BEGIN:VCALENDAR
VERSION:2.0
PRODID:-//lickingswcd.com//NONSGML kigkonsult.se iCalcreator 2.30.10//
CALSCALE:GREGORIAN
METHOD:PUBLISH
UID:72fbc730-fb64-4bc0-b3dd-562ea766b2de
X-WR-CALDESC:The beautiful 4-acre Natural Resources Area at the Hartford Fa
 ir is located behind the horse arena and goat barns. Free\, family-friendl
 y programs and contests are offered throughout the week of the Hartford Fa
 ir. Join the Licking County Ohio Certified Volunteer Naturalists for a pro
 gram at 1pm!
X-WR-RELCALID:e15930bdb48cd48c9672336494ea06fa
X-WR-TIMEZONE:America/New_York
BEGIN:VTIMEZONE
TZID:America/New_York
BEGIN:STANDARD
TZNAME:EST
DTSTART:20201101T020000
TZOFFSETFROM:-0400
TZOFFSETTO:-0500
RDATE:20211107T020000
RDATE:20221106T020000
END:STANDARD
BEGIN:DAYLIGHT
TZNAME:EDT
DTSTART:20210314T020000
TZOFFSETFROM:-0500
TZOFFSETTO:-0400
RDATE:20220313T020000
END:DAYLIGHT
END:VTIMEZONE
BEGIN:VEVENT
UID:f6e207a8-acce-4050-a19d-718db05d6638
DTSTAMP:20260423T173918Z
DESCRIPTION:The beautiful 4-acre Natural Resources Area at the Hartford Fai
 r is located behind the horse arena and goat barns. Free\, family-friendly
  programs and contests are offered throughout the week of the Hartford Fai
 r. Join the Licking County Ohio Certified Volunteer Naturalists for a prog
 ram at 1pm!
DTSTART;TZID=America/New_York:20210810T130000
DTEND;TZID=America/New_York:20210810T150000
LOCATION:Hartford Fairgrounds
SUMMARY:Ohio Certified Volunteer Naturalists at the Hartford Fair
END:VEVENT
END:VCALENDAR
