BEGIN:VCALENDAR
VERSION:2.0
PRODID:-//lickingswcd.com//NONSGML kigkonsult.se iCalcreator 2.30.10//
CALSCALE:GREGORIAN
METHOD:PUBLISH
UID:0504954b-75ac-48c1-977d-ec4b69ff9c19
X-WR-CALDESC:The beautiful 4-acre Natural Resources Area at the Hartford Fa
 ir is located behind the horse arena and goat barns. Free\, family-friendl
 y programs and contests are offered throughout the week of the Hartford Fa
 ir. Join The Dawes Arboretum for programming at 1pm!
X-WR-RELCALID:0ae3b7262103c53a374ccb10d4f2ea1e
X-WR-TIMEZONE:America/New_York
BEGIN:VTIMEZONE
TZID:America/New_York
BEGIN:STANDARD
TZNAME:EST
DTSTART:20201101T020000
TZOFFSETFROM:-0400
TZOFFSETTO:-0500
RDATE:20211107T020000
RDATE:20221106T020000
END:STANDARD
BEGIN:DAYLIGHT
TZNAME:EDT
DTSTART:20210314T020000
TZOFFSETFROM:-0500
TZOFFSETTO:-0400
RDATE:20220313T020000
END:DAYLIGHT
END:VTIMEZONE
BEGIN:VEVENT
UID:6b931f96-1eb9-43bc-a19a-7bbf3986bf6a
DTSTAMP:20260423T173502Z
DESCRIPTION:The beautiful 4-acre Natural Resources Area at the Hartford Fai
 r is located behind the horse arena and goat barns. Free\, family-friendly
  programs and contests are offered throughout the week of the Hartford Fai
 r. Join The Dawes Arboretum for programming at 1pm!
DTSTART;TZID=America/New_York:20210812T130000
DTEND;TZID=America/New_York:20210812T150000
LOCATION:Hartford Fairgrounds
SUMMARY:The Dawes Arboretum Program at Hartford Fair
END:VEVENT
END:VCALENDAR
