BEGIN:VCALENDAR
VERSION:2.0
PRODID:-//lickingswcd.com//NONSGML kigkonsult.se iCalcreator 2.30.10//
CALSCALE:GREGORIAN
METHOD:PUBLISH
UID:82b7478e-2a18-4f91-9e46-5e986edc37f1
X-WR-CALDESC:
X-WR-RELCALID:92ae1d3db44b73defa11c61f21857543
X-WR-TIMEZONE:America/New_York
BEGIN:VTIMEZONE
TZID:America/New_York
BEGIN:STANDARD
TZNAME:EST
DTSTART:20201101T020000
TZOFFSETFROM:-0400
TZOFFSETTO:-0500
RDATE:20211107T020000
RDATE:20221106T020000
END:STANDARD
BEGIN:DAYLIGHT
TZNAME:EDT
DTSTART:20210314T020000
TZOFFSETFROM:-0500
TZOFFSETTO:-0400
RDATE:20220313T020000
END:DAYLIGHT
END:VTIMEZONE
BEGIN:VEVENT
UID:c1ed75a9-5525-4f0e-9b20-56c116b36a64
DTSTAMP:20260423T174443Z
DESCRIPTION:
DTSTART;TZID=America/New_York:20210821T133000
DTEND;TZID=America/New_York:20210821T143000
LOCATION:The WORKS
SUMMARY:LCSWCD EcoAdventures
END:VEVENT
END:VCALENDAR
