BEGIN:VCALENDAR
VERSION:2.0
PRODID:-//lickingswcd.com//NONSGML kigkonsult.se iCalcreator 2.30.10//
CALSCALE:GREGORIAN
METHOD:PUBLISH
UID:e2659337-a2e1-49f9-839b-9152bdd4f36a
X-WR-CALDESC:
X-WR-RELCALID:33502f64683187a9a8607ffb0c78caa9
X-WR-TIMEZONE:America/New_York
BEGIN:VTIMEZONE
TZID:America/New_York
BEGIN:STANDARD
TZNAME:EST
DTSTART:20201101T020000
TZOFFSETFROM:-0400
TZOFFSETTO:-0500
RDATE:20211107T020000
RDATE:20221106T020000
END:STANDARD
BEGIN:DAYLIGHT
TZNAME:EDT
DTSTART:20210314T020000
TZOFFSETFROM:-0500
TZOFFSETTO:-0400
RDATE:20220313T020000
END:DAYLIGHT
END:VTIMEZONE
BEGIN:VEVENT
UID:45897fb3-0b82-4500-a262-90ffe062dc3c
DTSTAMP:20260423T180009Z
DESCRIPTION:
DTSTART;TZID=America/New_York:20210828T110000
DTEND;TZID=America/New_York:20210828T150000
LOCATION:6817 Cat Run Rd\, Granville\, OH 43023 US
SUMMARY:Licking & Knox Forage Field Day
END:VEVENT
END:VCALENDAR
