BEGIN:VCALENDAR
VERSION:2.0
PRODID:-//lickingswcd.com//NONSGML kigkonsult.se iCalcreator 2.30.10//
CALSCALE:GREGORIAN
METHOD:PUBLISH
UID:b6bcb5b7-47df-4c98-b11f-226297e1d0f5
X-WR-CALDESC:
X-WR-RELCALID:e8504f6b75c90557a835e874ea06efea
X-WR-TIMEZONE:America/New_York
BEGIN:VTIMEZONE
TZID:America/New_York
BEGIN:STANDARD
TZNAME:EST
DTSTART:20201101T020000
TZOFFSETFROM:-0400
TZOFFSETTO:-0500
RDATE:20211107T020000
RDATE:20221106T020000
END:STANDARD
BEGIN:DAYLIGHT
TZNAME:EDT
DTSTART:20210314T020000
TZOFFSETFROM:-0500
TZOFFSETTO:-0400
RDATE:20220313T020000
RDATE:20230312T020000
END:DAYLIGHT
END:VTIMEZONE
BEGIN:VEVENT
UID:32caca04-a988-40c8-8e37-8f915b1150cf
DTSTAMP:20260423T154911Z
DESCRIPTION:
DTSTART;TZID=America/New_York:20210921T000000
DTEND;TZID=America/New_York:20210921T235900
LOCATION:
SUMMARY:Zero Emissions Day
END:VEVENT
END:VCALENDAR
