BEGIN:VCALENDAR
VERSION:2.0
PRODID:-//lickingswcd.com//NONSGML kigkonsult.se iCalcreator 2.30.10//
CALSCALE:GREGORIAN
METHOD:PUBLISH
UID:b880f475-d022-4c07-ae6a-4912de49c9a3
X-WR-CALDESC:The Licking Soil & Water's Conservation Mini-Grant program off
 ers up to $1\,000 to non-profits\, including schools\, that demonstrate th
 e need and ability to carry out on-the-ground conservation projects. Appli
 cations will be accepted until October 1\, 2021. Awards will be announce i
 n December 2021.
X-WR-RELCALID:c851409149e5dc4943bd0b45f76678dd
X-WR-TIMEZONE:America/New_York
BEGIN:VTIMEZONE
TZID:America/New_York
BEGIN:STANDARD
TZNAME:EST
DTSTART:20201101T020000
TZOFFSETFROM:-0400
TZOFFSETTO:-0500
RDATE:20211107T020000
RDATE:20221106T020000
END:STANDARD
BEGIN:DAYLIGHT
TZNAME:EDT
DTSTART:20210314T020000
TZOFFSETFROM:-0500
TZOFFSETTO:-0400
RDATE:20220313T020000
RDATE:20230312T020000
END:DAYLIGHT
END:VTIMEZONE
BEGIN:VEVENT
UID:a162ce8b-a749-4fe9-8b53-8a051a3e97e9
DTSTAMP:20260423T140325Z
DESCRIPTION:The Licking Soil & Water's Conservation Mini-Grant program offe
 rs up to $1\,000 to non-profits\, including schools\, that demonstrate the
  need and ability to carry out on-the-ground conservation projects. Applic
 ations will be accepted until October 1\, 2021. Awards will be announce in
  December 2021.
DTSTART;TZID=America/New_York:20211001T000000
DTEND;TZID=America/New_York:20211001T235900
LOCATION:
SUMMARY:Conservation Mini Grant Deadline
END:VEVENT
END:VCALENDAR
