BEGIN:VCALENDAR
VERSION:2.0
PRODID:-//lickingswcd.com//NONSGML kigkonsult.se iCalcreator 2.30.10//
CALSCALE:GREGORIAN
METHOD:PUBLISH
UID:27639ac0-d2e4-4c7c-81d9-ad94f527e06c
X-WR-CALDESC:Pick up will be at the Soil & Water office\, 771 East Main Str
 eet\, Newark\, OH on October 12 from 8:00 am – 10:30 am.  You will receive
  a reminder email prior to the pick up date. \n\nSoil & Water is hosting a
  Pond Clinic on October 4th.  Visit the News & Events page at www.LickingS
 WCD.com for details and to RSVP.
X-WR-RELCALID:1915b61ecb81b87515aeff156c9af79a
X-WR-TIMEZONE:America/New_York
BEGIN:VTIMEZONE
TZID:America/New_York
BEGIN:STANDARD
TZNAME:EST
DTSTART:20201101T020000
TZOFFSETFROM:-0400
TZOFFSETTO:-0500
RDATE:20211107T020000
RDATE:20221106T020000
END:STANDARD
BEGIN:DAYLIGHT
TZNAME:EDT
DTSTART:20210314T020000
TZOFFSETFROM:-0500
TZOFFSETTO:-0400
RDATE:20220313T020000
RDATE:20230312T020000
END:DAYLIGHT
END:VTIMEZONE
BEGIN:VEVENT
UID:ccfcac9f-42da-4adb-b456-dc7fda960345
DTSTAMP:20260423T140807Z
DESCRIPTION:Pick up will be at the Soil & Water office\, 771 East Main Stre
 et\, Newark\, OH on October 12 from 8:00 am – 10:30 am.  You will receive 
 a reminder email prior to the pick up date. \n\nSoil & Water is hosting a 
 Pond Clinic on October 4th.  Visit the News & Events page at www.LickingSW
 CD.com for details and to RSVP.
DTSTART;TZID=America/New_York:20211005T000000
DTEND;TZID=America/New_York:20211005T235900
LOCATION:
SUMMARY:Last Day for Fish Sale Orders
END:VEVENT
END:VCALENDAR
