BEGIN:VCALENDAR
VERSION:2.0
PRODID:-//lickingswcd.com//NONSGML kigkonsult.se iCalcreator 2.30.10//
CALSCALE:GREGORIAN
METHOD:PUBLISH
UID:316353b1-cd1c-4ba6-90a5-dad0702082fb
X-WR-CALDESC:
X-WR-RELCALID:787b53af82a601018cd2e99418127957
X-WR-TIMEZONE:America/New_York
BEGIN:VTIMEZONE
TZID:America/New_York
BEGIN:STANDARD
TZNAME:EST
DTSTART:20201101T020000
TZOFFSETFROM:-0400
TZOFFSETTO:-0500
RDATE:20211107T020000
RDATE:20221106T020000
END:STANDARD
BEGIN:DAYLIGHT
TZNAME:EDT
DTSTART:20210314T020000
TZOFFSETFROM:-0500
TZOFFSETTO:-0400
RDATE:20220313T020000
RDATE:20230312T020000
END:DAYLIGHT
END:VTIMEZONE
BEGIN:VEVENT
UID:c68a5405-07c9-4c0e-b090-002c52bcabfe
DTSTAMP:20260423T140658Z
DESCRIPTION:
DTSTART;TZID=America/New_York:20211011T000000
DTEND;TZID=America/New_York:20211011T235900
LOCATION:
SUMMARY:Indigenous Peoples' Day
END:VEVENT
END:VCALENDAR
