BEGIN:VCALENDAR
VERSION:2.0
PRODID:-//lickingswcd.com//NONSGML kigkonsult.se iCalcreator 2.30.10//
CALSCALE:GREGORIAN
METHOD:PUBLISH
UID:b78cf899-a584-417b-8e0d-cb499c459905
X-WR-CALDESC:
X-WR-RELCALID:373746fb0f3dc14e643c1bdcf81c6866
X-WR-TIMEZONE:America/New_York
BEGIN:VTIMEZONE
TZID:America/New_York
BEGIN:STANDARD
TZNAME:EST
DTSTART:20201101T020000
TZOFFSETFROM:-0400
TZOFFSETTO:-0500
RDATE:20211107T020000
RDATE:20221106T020000
END:STANDARD
BEGIN:DAYLIGHT
TZNAME:EDT
DTSTART:20210314T020000
TZOFFSETFROM:-0500
TZOFFSETTO:-0400
RDATE:20220313T020000
RDATE:20230312T020000
END:DAYLIGHT
END:VTIMEZONE
BEGIN:VEVENT
UID:687a49fc-60e9-44e1-b6a6-2be1ef243914
DTSTAMP:20260423T140916Z
DESCRIPTION:
DTSTART;TZID=America/New_York:20211012T080000
DTEND;TZID=America/New_York:20211012T103000
LOCATION:771 East Main Street\, Newark\, OH
SUMMARY:Fish Sale Pick-up
END:VEVENT
END:VCALENDAR
