BEGIN:VCALENDAR
VERSION:2.0
PRODID:-//lickingswcd.com//NONSGML kigkonsult.se iCalcreator 2.30.10//
CALSCALE:GREGORIAN
METHOD:PUBLISH
UID:8ddbc95b-db7c-43a6-a413-2fae27e85624
X-WR-CALDESC:Stormwater Awareness Week is a regional effort that encourages
  communities (and the groups that care about them) to raise stormwater awa
 reness via newsletters and social media posts\, or with fun and educationa
 l events.
X-WR-RELCALID:c6fc891fbe0e55c53ad08b29925aab3d
X-WR-TIMEZONE:America/New_York
BEGIN:VTIMEZONE
TZID:America/New_York
BEGIN:STANDARD
TZNAME:EST
DTSTART:20201101T020000
TZOFFSETFROM:-0400
TZOFFSETTO:-0500
RDATE:20211107T020000
RDATE:20221106T020000
END:STANDARD
BEGIN:DAYLIGHT
TZNAME:EDT
DTSTART:20210314T020000
TZOFFSETFROM:-0500
TZOFFSETTO:-0400
RDATE:20220313T020000
RDATE:20230312T020000
END:DAYLIGHT
END:VTIMEZONE
BEGIN:VEVENT
UID:35c5a878-8033-44b1-b348-b9847aaf9d82
DTSTAMP:20260423T140505Z
DESCRIPTION:Stormwater Awareness Week is a regional effort that encourages 
 communities (and the groups that care about them) to raise stormwater awar
 eness via newsletters and social media posts\, or with fun and educational
  events.
DTSTART;TZID=America/New_York:20211017T000000
DTEND;TZID=America/New_York:20211023T235900
LOCATION:
SUMMARY:Stormwater Awareness Week
END:VEVENT
END:VCALENDAR
