BEGIN:VCALENDAR
VERSION:2.0
PRODID:-//lickingswcd.com//NONSGML kigkonsult.se iCalcreator 2.30.10//
CALSCALE:GREGORIAN
METHOD:PUBLISH
UID:e826fa32-4d56-40a2-afab-363179f38623
X-WR-CALDESC:Join us for a workshop on rain gardens and rain barrels during
  Stormwater Awareness Week!
X-WR-RELCALID:c5595160c8d473aed7d944410c5ecaa9
X-WR-TIMEZONE:America/New_York
BEGIN:VTIMEZONE
TZID:America/New_York
BEGIN:STANDARD
TZNAME:EST
DTSTART:20201101T020000
TZOFFSETFROM:-0400
TZOFFSETTO:-0500
RDATE:20211107T020000
RDATE:20221106T020000
END:STANDARD
BEGIN:DAYLIGHT
TZNAME:EDT
DTSTART:20210314T020000
TZOFFSETFROM:-0500
TZOFFSETTO:-0400
RDATE:20220313T020000
RDATE:20230312T020000
END:DAYLIGHT
END:VTIMEZONE
BEGIN:VEVENT
UID:00b40600-62c2-48ad-a7f5-44c20c214204
DTSTAMP:20260423T140417Z
DESCRIPTION:Join us for a workshop on rain gardens and rain barrels during 
 Stormwater Awareness Week!
DTSTART;TZID=America/New_York:20211018T170000
DTEND;TZID=America/New_York:20211018T183000
LOCATION:771 E Main St\, Newark\, OH 43055 US
SUMMARY:Rain Garden / Rain Barrel Workshop
END:VEVENT
END:VCALENDAR
