BEGIN:VCALENDAR
VERSION:2.0
PRODID:-//lickingswcd.com//NONSGML kigkonsult.se iCalcreator 2.30.10//
CALSCALE:GREGORIAN
METHOD:PUBLISH
UID:0c9aa598-e8aa-48df-8272-48d238e983f9
X-WR-CALDESC:The public is welcome to attend monthly Board meetings and ser
 ve on committees.\nIn response to the public health situation with COVID-1
 9\, Governor DeWine’s directives and the Ohio Department of Health’s guida
 nce on avoiding large gatherings\, Soil & Water provides online meeting li
 nks to the public or guests who would like to attend the Board meeting.  
 \n\nContact Soil & Water at 740-670-5330 or email information@LickingSWCD.
 com to have the zoom meeting information sent to you electronically.
X-WR-RELCALID:1c05daf5cc667fd966bb59955608d16b
X-WR-TIMEZONE:America/New_York
BEGIN:VTIMEZONE
TZID:America/New_York
BEGIN:STANDARD
TZNAME:EST
DTSTART:20201101T020000
TZOFFSETFROM:-0400
TZOFFSETTO:-0500
RDATE:20211107T020000
RDATE:20221106T020000
END:STANDARD
BEGIN:DAYLIGHT
TZNAME:EDT
DTSTART:20210314T020000
TZOFFSETFROM:-0500
TZOFFSETTO:-0400
RDATE:20220313T020000
RDATE:20230312T020000
END:DAYLIGHT
END:VTIMEZONE
BEGIN:VEVENT
UID:bd3099ca-8811-4e13-a6f7-3b1bdda0aaed
DTSTAMP:20260423T141105Z
DESCRIPTION:The public is welcome to attend monthly Board meetings and serv
 e on committees.\nIn response to the public health situation with COVID-19
 \, Governor DeWine’s directives and the Ohio Department of Health’s guidan
 ce on avoiding large gatherings\, Soil & Water provides online meeting lin
 ks to the public or guests who would like to attend the Board meeting.  \n
 \nContact Soil & Water at 740-670-5330 or email information@LickingSWCD.co
 m to have the zoom meeting information sent to you electronically.
DTSTART;TZID=America/New_York:20211020T163000
DTEND;TZID=America/New_York:20211020T183000
LOCATION:
SUMMARY:Soil & Water Board of Supervisors regular monthly meeting
END:VEVENT
END:VCALENDAR
