BEGIN:VCALENDAR
VERSION:2.0
PRODID:-//lickingswcd.com//NONSGML kigkonsult.se iCalcreator 2.30.10//
CALSCALE:GREGORIAN
METHOD:PUBLISH
UID:6832e86d-ed1b-4458-8448-2d61942bdff7
X-WR-CALDESC:Last day to drop off milkweed pods in the collection bin!
X-WR-RELCALID:90e0d1cb22a1f369c598c87a494ea723
X-WR-TIMEZONE:America/New_York
BEGIN:VTIMEZONE
TZID:America/New_York
BEGIN:STANDARD
TZNAME:EST
DTSTART:20201101T020000
TZOFFSETFROM:-0400
TZOFFSETTO:-0500
RDATE:20211107T020000
RDATE:20221106T020000
END:STANDARD
BEGIN:DAYLIGHT
TZNAME:EDT
DTSTART:20210314T020000
TZOFFSETFROM:-0500
TZOFFSETTO:-0400
RDATE:20220313T020000
RDATE:20230312T020000
END:DAYLIGHT
END:VTIMEZONE
BEGIN:VEVENT
UID:66a50f31-9bb1-4007-a711-6826419784ca
DTSTAMP:20260423T140751Z
DESCRIPTION:Last day to drop off milkweed pods in the collection bin!
DTSTART;TZID=America/New_York:20211030T000000
DTEND;TZID=America/New_York:20211030T235900
LOCATION:Licking Soil & Water Office
SUMMARY:Milkweed Pod Collection Ends
END:VEVENT
END:VCALENDAR
