BEGIN:VCALENDAR
VERSION:2.0
PRODID:-//lickingswcd.com//NONSGML kigkonsult.se iCalcreator 2.30.10//
CALSCALE:GREGORIAN
METHOD:PUBLISH
UID:3ae6c325-ae02-4ecf-aa3f-8c2c3691db6c
X-WR-CALDESC:
X-WR-RELCALID:697480677e517d0f0d621ccb85288d55
X-WR-TIMEZONE:America/New_York
BEGIN:VTIMEZONE
TZID:America/New_York
BEGIN:STANDARD
TZNAME:EST
DTSTART:20201101T020000
TZOFFSETFROM:-0400
TZOFFSETTO:-0500
RDATE:20211107T020000
RDATE:20221106T020000
END:STANDARD
BEGIN:DAYLIGHT
TZNAME:EDT
DTSTART:20210314T020000
TZOFFSETFROM:-0500
TZOFFSETTO:-0400
RDATE:20220313T020000
RDATE:20230312T020000
END:DAYLIGHT
END:VTIMEZONE
BEGIN:VEVENT
UID:ba30a414-2dcb-4b7f-a562-899a7f1efe71
DTSTAMP:20260423T140141Z
DESCRIPTION:
DTSTART;TZID=America/New_York:20211031T000000
DTEND;TZID=America/New_York:20211031T235900
LOCATION:
SUMMARY:Halloween
END:VEVENT
END:VCALENDAR
