BEGIN:VCALENDAR
VERSION:2.0
PRODID:-//lickingswcd.com//NONSGML kigkonsult.se iCalcreator 2.30.10//
CALSCALE:GREGORIAN
METHOD:PUBLISH
UID:da7ed5e2-66b6-42a1-854f-82f86c624333
X-WR-CALDESC:
X-WR-RELCALID:61f415f68da6c3c02189332720615e08
X-WR-TIMEZONE:America/New_York
BEGIN:VTIMEZONE
TZID:America/New_York
BEGIN:STANDARD
TZNAME:EST
DTSTART:20201101T020000
TZOFFSETFROM:-0400
TZOFFSETTO:-0500
RDATE:20211107T020000
RDATE:20221106T020000
END:STANDARD
BEGIN:DAYLIGHT
TZNAME:EDT
DTSTART:20210314T020000
TZOFFSETFROM:-0500
TZOFFSETTO:-0400
RDATE:20220313T020000
RDATE:20230312T020000
END:DAYLIGHT
END:VTIMEZONE
BEGIN:VEVENT
UID:960933e4-ccfb-40ff-88d9-161633300b0f
DTSTAMP:20260423T123302Z
DESCRIPTION:
DTSTART;TZID=America/New_York:20211101T000000
DTEND;TZID=America/New_York:20211101T235900
LOCATION:
SUMMARY:American Indian Heritage Month Begins
END:VEVENT
END:VCALENDAR
