BEGIN:VCALENDAR
VERSION:2.0
PRODID:-//lickingswcd.com//NONSGML kigkonsult.se iCalcreator 2.30.10//
CALSCALE:GREGORIAN
METHOD:PUBLISH
UID:d859240b-d865-4ced-ab53-97a1798d1ae8
X-WR-CALDESC:
X-WR-RELCALID:62737d2a739ee0522fddd551e4339969
X-WR-TIMEZONE:America/New_York
BEGIN:VTIMEZONE
TZID:America/New_York
BEGIN:STANDARD
TZNAME:EST
DTSTART:20211107T020000
TZOFFSETFROM:-0400
TZOFFSETTO:-0500
RDATE:20221106T020000
END:STANDARD
BEGIN:DAYLIGHT
TZNAME:EDT
DTSTART:20210314T020000
TZOFFSETFROM:-0500
TZOFFSETTO:-0400
RDATE:20220313T020000
RDATE:20230312T020000
END:DAYLIGHT
END:VTIMEZONE
BEGIN:VEVENT
UID:ad08d327-2e17-438c-bc81-fb01e727a9b7
DTSTAMP:20260423T123016Z
DESCRIPTION:
DTSTART;TZID=America/New_York:20211102T000000
DTEND;TZID=America/New_York:20211102T235900
LOCATION:
SUMMARY:Election Day
END:VEVENT
END:VCALENDAR
