BEGIN:VCALENDAR
VERSION:2.0
PRODID:-//lickingswcd.com//NONSGML kigkonsult.se iCalcreator 2.30.10//
CALSCALE:GREGORIAN
METHOD:PUBLISH
UID:e0183e7f-6f7c-4ed5-b28c-1c10a4f64839
X-WR-CALDESC:
X-WR-RELCALID:9fb0f7f0e051088e4aac86c3ab7daf16
X-WR-TIMEZONE:America/New_York
BEGIN:VTIMEZONE
TZID:America/New_York
BEGIN:STANDARD
TZNAME:EST
DTSTART:20211107T020000
TZOFFSETFROM:-0400
TZOFFSETTO:-0500
RDATE:20221106T020000
END:STANDARD
BEGIN:DAYLIGHT
TZNAME:EDT
DTSTART:20210314T020000
TZOFFSETFROM:-0500
TZOFFSETTO:-0400
RDATE:20220313T020000
RDATE:20230312T020000
END:DAYLIGHT
END:VTIMEZONE
BEGIN:VEVENT
UID:5a1942da-4641-4b3c-b93f-f9be607d56b7
DTSTAMP:20260423T123155Z
DESCRIPTION:
DTSTART;TZID=America/New_York:20211107T000000
DTEND;TZID=America/New_York:20211107T235900
LOCATION:
SUMMARY:Daylight Savings Ends
END:VEVENT
END:VCALENDAR
