BEGIN:VCALENDAR
VERSION:2.0
PRODID:-//lickingswcd.com//NONSGML kigkonsult.se iCalcreator 2.30.10//
CALSCALE:GREGORIAN
METHOD:PUBLISH
UID:9c0c4278-6cbf-4f11-bdf9-e3d8804acc06
X-WR-CALDESC:Join us in celebrating our wonderful Community Conservation ef
 forts!  \nNovember 17\, 2021 at The Grove by the River\, 840 Hollander Str
 eet\, Newark\, OH  43055\n5:30 – 6:00 pm ~ Community Celebration Reception
  \nEnjoy complimentary appetizers and cash bar\, and thank you gifts for o
 ur partners\, volunteers and supporters who attend.   \n \n5:30 – 7:00 pm 
 ~ Board of Supervisors Election\nTwo Supervisors will be elected by landow
 ners and residents of Licking County to help guide the District’s mission.
   Candidate bios for Ron Thompson and Seth Dobbelaer can be found here htt
 ps://lickingswcd.com/who-we-are/board.html\n\n6:30 ~ Dinner and Awards Cel
 ebration\nAwards presented for Cooperator\, Volunteer and Educator of the 
 Year. \nDistrict FFA Soil Judging winning teams will be recognized. \nBuff
 et Dinner tickets $10.  \nAs of Tuesday\, November 16th we have a few tick
 ets left!  Online sales are closed but call 740-670-5330 to RSVP and pay a
 t the door!    \n
X-WR-RELCALID:759890a42b3411190c3fc3c7bb0f1b53
X-WR-TIMEZONE:America/New_York
BEGIN:VTIMEZONE
TZID:America/New_York
BEGIN:STANDARD
TZNAME:EST
DTSTART:20211107T020000
TZOFFSETFROM:-0400
TZOFFSETTO:-0500
RDATE:20221106T020000
END:STANDARD
BEGIN:DAYLIGHT
TZNAME:EDT
DTSTART:20210314T020000
TZOFFSETFROM:-0500
TZOFFSETTO:-0400
RDATE:20220313T020000
RDATE:20230312T020000
END:DAYLIGHT
END:VTIMEZONE
BEGIN:VEVENT
UID:6d068b73-87a7-4872-ba55-40255240fba5
DTSTAMP:20260423T122903Z
DESCRIPTION:Join us in celebrating our wonderful Community Conservation eff
 orts!  \nNovember 17\, 2021 at The Grove by the River\, 840 Hollander Stre
 et\, Newark\, OH  43055\n5:30 – 6:00 pm ~ Community Celebration Reception 
 \nEnjoy complimentary appetizers and cash bar\, and thank you gifts for ou
 r partners\, volunteers and supporters who attend.   \n \n5:30 – 7:00 pm ~
  Board of Supervisors Election\nTwo Supervisors will be elected by landown
 ers and residents of Licking County to help guide the District’s mission. 
  Candidate bios for Ron Thompson and Seth Dobbelaer can be found here http
 s://lickingswcd.com/who-we-are/board.html\n\n6:30 ~ Dinner and Awards Cele
 bration\nAwards presented for Cooperator\, Volunteer and Educator of the Y
 ear. \nDistrict FFA Soil Judging winning teams will be recognized. \nBuffe
 t Dinner tickets $10.  \nAs of Tuesday\, November 16th we have a few ticke
 ts left!  Online sales are closed but call 740-670-5330 to RSVP and pay at
  the door!    \n
DTSTART;TZID=America/New_York:20211117T173000
DTEND;TZID=America/New_York:20211117T190000
LOCATION:The Grove by the River\, 840 Hollander Street\, Newark\, OH 43055 
 US
SUMMARY:2021 Annual Banquet
END:VEVENT
END:VCALENDAR
