BEGIN:VCALENDAR
VERSION:2.0
PRODID:-//lickingswcd.com//NONSGML kigkonsult.se iCalcreator 2.30.10//
CALSCALE:GREGORIAN
METHOD:PUBLISH
UID:dec481f8-c139-42ba-a641-b74dd2d43971
X-WR-CALDESC:
X-WR-RELCALID:0189534a8ee173835ebc89795a250d6d
X-WR-TIMEZONE:America/New_York
BEGIN:VTIMEZONE
TZID:America/New_York
BEGIN:STANDARD
TZNAME:EST
DTSTART:20211107T020000
TZOFFSETFROM:-0400
TZOFFSETTO:-0500
RDATE:20221106T020000
END:STANDARD
BEGIN:DAYLIGHT
TZNAME:EDT
DTSTART:20210314T020000
TZOFFSETFROM:-0500
TZOFFSETTO:-0400
RDATE:20220313T020000
RDATE:20230312T020000
END:DAYLIGHT
END:VTIMEZONE
BEGIN:VEVENT
UID:abe367e9-dd19-4bd2-8a8e-4b8d33bbbcf5
DTSTAMP:20260423T124136Z
DESCRIPTION:
DTSTART;TZID=America/New_York:20211125T000000
DTEND;TZID=America/New_York:20211125T235900
LOCATION:
SUMMARY:Thanksgiving
END:VEVENT
END:VCALENDAR
